BEGIN:VCALENDAR
VERSION:2.0
PRODID:-//ELWOOD COMMUNITY SCHOOL CORPORATION - ECPv6.15.20//NONSGML v1.0//EN
CALSCALE:GREGORIAN
METHOD:PUBLISH
X-ORIGINAL-URL:https://www.elwood.k12.in.us
X-WR-CALDESC:Events for ELWOOD COMMUNITY SCHOOL CORPORATION
REFRESH-INTERVAL;VALUE=DURATION:PT1H
X-Robots-Tag:noindex
X-PUBLISHED-TTL:PT1H
BEGIN:VTIMEZONE
TZID:America/Chicago
BEGIN:DAYLIGHT
TZOFFSETFROM:-0600
TZOFFSETTO:-0500
TZNAME:CDT
DTSTART:20240310T080000
END:DAYLIGHT
BEGIN:STANDARD
TZOFFSETFROM:-0500
TZOFFSETTO:-0600
TZNAME:CST
DTSTART:20241103T070000
END:STANDARD
BEGIN:DAYLIGHT
TZOFFSETFROM:-0600
TZOFFSETTO:-0500
TZNAME:CDT
DTSTART:20250309T080000
END:DAYLIGHT
BEGIN:STANDARD
TZOFFSETFROM:-0500
TZOFFSETTO:-0600
TZNAME:CST
DTSTART:20251102T070000
END:STANDARD
BEGIN:DAYLIGHT
TZOFFSETFROM:-0600
TZOFFSETTO:-0500
TZNAME:CDT
DTSTART:20260308T080000
END:DAYLIGHT
BEGIN:STANDARD
TZOFFSETFROM:-0500
TZOFFSETTO:-0600
TZNAME:CST
DTSTART:20261101T070000
END:STANDARD
END:VTIMEZONE
BEGIN:VEVENT
DTSTART;TZID=America/Chicago:20250724T190000
DTEND;TZID=America/Chicago:20250724T210000
DTSTAMP:20260420T024054
CREATED:20250724T210918Z
LAST-MODIFIED:20250724T211200Z
UID:2298-1753383600-1753390800@www.elwood.k12.in.us
SUMMARY:7/24/25 Public Board Meeting Livestream
DESCRIPTION:7/24/25 Public Board Meeting Livestream
URL:https://www.elwood.k12.in.us/events/7-24-25-public-board-meeting-livestream/
LOCATION:ELWOOD SCHOOLS\, 1306 North Andersen St\, Elwood\, Indiana\, 46036\, United States
ATTACH;FMTTYPE=image/jpeg:https://www.elwood.k12.in.us/wp-content/uploads/2025/07/large_fd9d447b-89bc-4c90-9dec-ee1729b73d75.jpg
END:VEVENT
END:VCALENDAR